BEGIN:VCALENDAR
VERSION:2.0
PRODID:https://www.kufer.de/kuferweb / DE
METHOD:PUBLISH
CALSCALE:GREGORIAN
X-WR-TIMEZONE:Europe/Berlin
BEGIN:VTIMEZONE
TZID:Europe/Berlin
X-LIC-LOCATION:Europe/Berlin
BEGIN:DAYLIGHT
TZOFFSETFROM:+0100
TZOFFSETTO:+0200
TZNAME:CEST
DTSTART:19700329T020000
RRULE:FREQ=YEARLY;INTERVAL=1;BYDAY=-1SU;BYMONTH=3
END:DAYLIGHT
BEGIN:STANDARD
TZOFFSETFROM:+0200
TZOFFSETTO:+0100
TZNAME:CET
DTSTART:19701025T030000
RRULE:FREQ=YEARLY;INTERVAL=1;BYDAY=-1SU;BYMONTH=10
END:STANDARD
END:VTIMEZONE
BEGIN:VEVENT
DTSTAMP:20260424T193039
DTSTART;TZID=Europe/Berlin:20260304T143000
DTEND;TZID=Europe/Berlin:20260304T150000
UID:F83508-04-20260304T143000@VHSLANDKREIS AICHACH-FRIEDBERG E.V.
SUMMARY:Keyboard oder E-Piano für Kinder und Jugendliche (F83508-04) 
LOCATION:Friedberg; Wasserturm; Vorraum, Erdgeschoss, Lehleweg 5, 86316 Friedberg
END:VEVENT
BEGIN:VEVENT
DTSTAMP:20260424T193039
DTSTART;TZID=Europe/Berlin:20260311T143000
DTEND;TZID=Europe/Berlin:20260311T150000
UID:F83508-04-20260311T143000@VHSLANDKREIS AICHACH-FRIEDBERG E.V.
SUMMARY:Keyboard oder E-Piano für Kinder und Jugendliche (F83508-04) 
LOCATION:Friedberg; Wasserturm; Vorraum, Erdgeschoss, Lehleweg 5, 86316 Friedberg
END:VEVENT
BEGIN:VEVENT
DTSTAMP:20260424T193039
DTSTART;TZID=Europe/Berlin:20260318T143000
DTEND;TZID=Europe/Berlin:20260318T150000
UID:F83508-04-20260318T143000@VHSLANDKREIS AICHACH-FRIEDBERG E.V.
SUMMARY:Keyboard oder E-Piano für Kinder und Jugendliche (F83508-04) 
LOCATION:Friedberg; Wasserturm; Vorraum, Erdgeschoss, Lehleweg 5, 86316 Friedberg
END:VEVENT
BEGIN:VEVENT
DTSTAMP:20260424T193039
DTSTART;TZID=Europe/Berlin:20260325T143000
DTEND;TZID=Europe/Berlin:20260325T150000
UID:F83508-04-20260325T143000@VHSLANDKREIS AICHACH-FRIEDBERG E.V.
SUMMARY:Keyboard oder E-Piano für Kinder und Jugendliche (F83508-04) 
LOCATION:Friedberg; Wasserturm; Vorraum, Erdgeschoss, Lehleweg 5, 86316 Friedberg
END:VEVENT
BEGIN:VEVENT
DTSTAMP:20260424T193039
DTSTART;TZID=Europe/Berlin:20260415T143000
DTEND;TZID=Europe/Berlin:20260415T150000
UID:F83508-04-20260415T143000@VHSLANDKREIS AICHACH-FRIEDBERG E.V.
SUMMARY:Keyboard oder E-Piano für Kinder und Jugendliche (F83508-04) 
LOCATION:Friedberg; Wasserturm; Vorraum, Erdgeschoss, Lehleweg 5, 86316 Friedberg
END:VEVENT
BEGIN:VEVENT
DTSTAMP:20260424T193039
DTSTART;TZID=Europe/Berlin:20260422T143000
DTEND;TZID=Europe/Berlin:20260422T150000
UID:F83508-04-20260422T143000@VHSLANDKREIS AICHACH-FRIEDBERG E.V.
SUMMARY:Keyboard oder E-Piano für Kinder und Jugendliche (F83508-04) 
LOCATION:Friedberg; Wasserturm; Vorraum, Erdgeschoss, Lehleweg 5, 86316 Friedberg
END:VEVENT
BEGIN:VEVENT
DTSTAMP:20260424T193039
DTSTART;TZID=Europe/Berlin:20260429T143000
DTEND;TZID=Europe/Berlin:20260429T150000
UID:F83508-04-20260429T143000@VHSLANDKREIS AICHACH-FRIEDBERG E.V.
SUMMARY:Keyboard oder E-Piano für Kinder und Jugendliche (F83508-04) 
LOCATION:Friedberg; Wasserturm; Vorraum, Erdgeschoss, Lehleweg 5, 86316 Friedberg
END:VEVENT
BEGIN:VEVENT
DTSTAMP:20260424T193039
DTSTART;TZID=Europe/Berlin:20260506T143000
DTEND;TZID=Europe/Berlin:20260506T150000
UID:F83508-04-20260506T143000@VHSLANDKREIS AICHACH-FRIEDBERG E.V.
SUMMARY:Keyboard oder E-Piano für Kinder und Jugendliche (F83508-04) 
LOCATION:Friedberg; Wasserturm; Vorraum, Erdgeschoss, Lehleweg 5, 86316 Friedberg
END:VEVENT
BEGIN:VEVENT
DTSTAMP:20260424T193039
DTSTART;TZID=Europe/Berlin:20260513T143000
DTEND;TZID=Europe/Berlin:20260513T150000
UID:F83508-04-20260513T143000@VHSLANDKREIS AICHACH-FRIEDBERG E.V.
SUMMARY:Keyboard oder E-Piano für Kinder und Jugendliche (F83508-04) 
LOCATION:Friedberg; Wasserturm; Vorraum, Erdgeschoss, Lehleweg 5, 86316 Friedberg
END:VEVENT
BEGIN:VEVENT
DTSTAMP:20260424T193039
DTSTART;TZID=Europe/Berlin:20260520T143000
DTEND;TZID=Europe/Berlin:20260520T150000
UID:F83508-04-20260520T143000@VHSLANDKREIS AICHACH-FRIEDBERG E.V.
SUMMARY:Keyboard oder E-Piano für Kinder und Jugendliche (F83508-04) 
LOCATION:Friedberg; Wasserturm; Vorraum, Erdgeschoss, Lehleweg 5, 86316 Friedberg
END:VEVENT
BEGIN:VEVENT
DTSTAMP:20260424T193039
DTSTART;TZID=Europe/Berlin:20260610T143000
DTEND;TZID=Europe/Berlin:20260610T150000
UID:F83508-04-20260610T143000@VHSLANDKREIS AICHACH-FRIEDBERG E.V.
SUMMARY:Keyboard oder E-Piano für Kinder und Jugendliche (F83508-04) 
LOCATION:Friedberg; Wasserturm; Vorraum, Erdgeschoss, Lehleweg 5, 86316 Friedberg
END:VEVENT
BEGIN:VEVENT
DTSTAMP:20260424T193039
DTSTART;TZID=Europe/Berlin:20260617T143000
DTEND;TZID=Europe/Berlin:20260617T150000
UID:F83508-04-20260617T143000@VHSLANDKREIS AICHACH-FRIEDBERG E.V.
SUMMARY:Keyboard oder E-Piano für Kinder und Jugendliche (F83508-04) 
LOCATION:Friedberg; Wasserturm; Vorraum, Erdgeschoss, Lehleweg 5, 86316 Friedberg
END:VEVENT
END:VCALENDAR