BEGIN:VCALENDAR
VERSION:2.0
PRODID:https://www.kufer.de/kuferweb / DE
METHOD:PUBLISH
CALSCALE:GREGORIAN
X-WR-TIMEZONE:Europe/Berlin
BEGIN:VTIMEZONE
TZID:Europe/Berlin
X-LIC-LOCATION:Europe/Berlin
BEGIN:DAYLIGHT
TZOFFSETFROM:+0100
TZOFFSETTO:+0200
TZNAME:CEST
DTSTART:19700329T020000
RRULE:FREQ=YEARLY;INTERVAL=1;BYDAY=-1SU;BYMONTH=3
END:DAYLIGHT
BEGIN:STANDARD
TZOFFSETFROM:+0200
TZOFFSETTO:+0100
TZNAME:CET
DTSTART:19701025T030000
RRULE:FREQ=YEARLY;INTERVAL=1;BYDAY=-1SU;BYMONTH=10
END:STANDARD
END:VTIMEZONE
BEGIN:VEVENT
DTSTAMP:20260424T192336
DTSTART;TZID=Europe/Berlin:20260302T163000
DTEND;TZID=Europe/Berlin:20260302T171500
UID:F83508-03-20260302T163000@VHSLANDKREIS AICHACH-FRIEDBERG E.V.
SUMMARY:Keyboard oder E-Piano für Kinder (ab 7 J.) (F83508-03) 
LOCATION:Friedberg; Wasserturm; Vorraum, Erdgeschoss, Lehleweg 5, 86316 Friedberg
END:VEVENT
BEGIN:VEVENT
DTSTAMP:20260424T192336
DTSTART;TZID=Europe/Berlin:20260309T163000
DTEND;TZID=Europe/Berlin:20260309T171500
UID:F83508-03-20260309T163000@VHSLANDKREIS AICHACH-FRIEDBERG E.V.
SUMMARY:Keyboard oder E-Piano für Kinder (ab 7 J.) (F83508-03) 
LOCATION:Friedberg; Wasserturm; Vorraum, Erdgeschoss, Lehleweg 5, 86316 Friedberg
END:VEVENT
BEGIN:VEVENT
DTSTAMP:20260424T192336
DTSTART;TZID=Europe/Berlin:20260316T163000
DTEND;TZID=Europe/Berlin:20260316T171500
UID:F83508-03-20260316T163000@VHSLANDKREIS AICHACH-FRIEDBERG E.V.
SUMMARY:Keyboard oder E-Piano für Kinder (ab 7 J.) (F83508-03) 
LOCATION:Friedberg; Wasserturm; Vorraum, Erdgeschoss, Lehleweg 5, 86316 Friedberg
END:VEVENT
BEGIN:VEVENT
DTSTAMP:20260424T192336
DTSTART;TZID=Europe/Berlin:20260323T163000
DTEND;TZID=Europe/Berlin:20260323T171500
UID:F83508-03-20260323T163000@VHSLANDKREIS AICHACH-FRIEDBERG E.V.
SUMMARY:Keyboard oder E-Piano für Kinder (ab 7 J.) (F83508-03) 
LOCATION:Friedberg; Wasserturm; Vorraum, Erdgeschoss, Lehleweg 5, 86316 Friedberg
END:VEVENT
BEGIN:VEVENT
DTSTAMP:20260424T192336
DTSTART;TZID=Europe/Berlin:20260413T163000
DTEND;TZID=Europe/Berlin:20260413T171500
UID:F83508-03-20260413T163000@VHSLANDKREIS AICHACH-FRIEDBERG E.V.
SUMMARY:Keyboard oder E-Piano für Kinder (ab 7 J.) (F83508-03) 
LOCATION:Friedberg; Wasserturm; Vorraum, Erdgeschoss, Lehleweg 5, 86316 Friedberg
END:VEVENT
BEGIN:VEVENT
DTSTAMP:20260424T192336
DTSTART;TZID=Europe/Berlin:20260420T163000
DTEND;TZID=Europe/Berlin:20260420T171500
UID:F83508-03-20260420T163000@VHSLANDKREIS AICHACH-FRIEDBERG E.V.
SUMMARY:Keyboard oder E-Piano für Kinder (ab 7 J.) (F83508-03) 
LOCATION:Friedberg; Wasserturm; Vorraum, Erdgeschoss, Lehleweg 5, 86316 Friedberg
END:VEVENT
BEGIN:VEVENT
DTSTAMP:20260424T192336
DTSTART;TZID=Europe/Berlin:20260427T163000
DTEND;TZID=Europe/Berlin:20260427T171500
UID:F83508-03-20260427T163000@VHSLANDKREIS AICHACH-FRIEDBERG E.V.
SUMMARY:Keyboard oder E-Piano für Kinder (ab 7 J.) (F83508-03) 
LOCATION:Friedberg; Wasserturm; Vorraum, Erdgeschoss, Lehleweg 5, 86316 Friedberg
END:VEVENT
BEGIN:VEVENT
DTSTAMP:20260424T192336
DTSTART;TZID=Europe/Berlin:20260504T163000
DTEND;TZID=Europe/Berlin:20260504T171500
UID:F83508-03-20260504T163000@VHSLANDKREIS AICHACH-FRIEDBERG E.V.
SUMMARY:Keyboard oder E-Piano für Kinder (ab 7 J.) (F83508-03) 
LOCATION:Friedberg; Wasserturm; Vorraum, Erdgeschoss, Lehleweg 5, 86316 Friedberg
END:VEVENT
BEGIN:VEVENT
DTSTAMP:20260424T192336
DTSTART;TZID=Europe/Berlin:20260511T163000
DTEND;TZID=Europe/Berlin:20260511T171500
UID:F83508-03-20260511T163000@VHSLANDKREIS AICHACH-FRIEDBERG E.V.
SUMMARY:Keyboard oder E-Piano für Kinder (ab 7 J.) (F83508-03) 
LOCATION:Friedberg; Wasserturm; Vorraum, Erdgeschoss, Lehleweg 5, 86316 Friedberg
END:VEVENT
BEGIN:VEVENT
DTSTAMP:20260424T192336
DTSTART;TZID=Europe/Berlin:20260518T163000
DTEND;TZID=Europe/Berlin:20260518T171500
UID:F83508-03-20260518T163000@VHSLANDKREIS AICHACH-FRIEDBERG E.V.
SUMMARY:Keyboard oder E-Piano für Kinder (ab 7 J.) (F83508-03) 
LOCATION:Friedberg; Wasserturm; Vorraum, Erdgeschoss, Lehleweg 5, 86316 Friedberg
END:VEVENT
BEGIN:VEVENT
DTSTAMP:20260424T192336
DTSTART;TZID=Europe/Berlin:20260608T163000
DTEND;TZID=Europe/Berlin:20260608T171500
UID:F83508-03-20260608T163000@VHSLANDKREIS AICHACH-FRIEDBERG E.V.
SUMMARY:Keyboard oder E-Piano für Kinder (ab 7 J.) (F83508-03) 
LOCATION:Friedberg; Wasserturm; Vorraum, Erdgeschoss, Lehleweg 5, 86316 Friedberg
END:VEVENT
BEGIN:VEVENT
DTSTAMP:20260424T192336
DTSTART;TZID=Europe/Berlin:20260615T163000
DTEND;TZID=Europe/Berlin:20260615T171500
UID:F83508-03-20260615T163000@VHSLANDKREIS AICHACH-FRIEDBERG E.V.
SUMMARY:Keyboard oder E-Piano für Kinder (ab 7 J.) (F83508-03) 
LOCATION:Friedberg; Wasserturm; Vorraum, Erdgeschoss, Lehleweg 5, 86316 Friedberg
END:VEVENT
END:VCALENDAR