BEGIN:VCALENDAR
VERSION:2.0
PRODID:https://www.kufer.de/kuferweb / DE
METHOD:PUBLISH
CALSCALE:GREGORIAN
X-WR-TIMEZONE:Europe/Berlin
BEGIN:VTIMEZONE
TZID:Europe/Berlin
X-LIC-LOCATION:Europe/Berlin
BEGIN:DAYLIGHT
TZOFFSETFROM:+0100
TZOFFSETTO:+0200
TZNAME:CEST
DTSTART:19700329T020000
RRULE:FREQ=YEARLY;INTERVAL=1;BYDAY=-1SU;BYMONTH=3
END:DAYLIGHT
BEGIN:STANDARD
TZOFFSETFROM:+0200
TZOFFSETTO:+0100
TZNAME:CET
DTSTART:19701025T030000
RRULE:FREQ=YEARLY;INTERVAL=1;BYDAY=-1SU;BYMONTH=10
END:STANDARD
END:VTIMEZONE
BEGIN:VEVENT
DTSTAMP:20260424T192234
DTSTART;TZID=Europe/Berlin:20260302T143000
DTEND;TZID=Europe/Berlin:20260302T151500
UID:F83508-01-20260302T143000@VHSLANDKREIS AICHACH-FRIEDBERG E.V.
SUMMARY:Musikalische Früherziehung auf der Basis von Keyboard oder E-Piano (ab 5 J.) (F83508-01) 
LOCATION:Friedberg; Wasserturm; Vorraum, Erdgeschoss, Lehleweg 5, 86316 Friedberg
END:VEVENT
BEGIN:VEVENT
DTSTAMP:20260424T192234
DTSTART;TZID=Europe/Berlin:20260309T143000
DTEND;TZID=Europe/Berlin:20260309T151500
UID:F83508-01-20260309T143000@VHSLANDKREIS AICHACH-FRIEDBERG E.V.
SUMMARY:Musikalische Früherziehung auf der Basis von Keyboard oder E-Piano (ab 5 J.) (F83508-01) 
LOCATION:Friedberg; Wasserturm; Vorraum, Erdgeschoss, Lehleweg 5, 86316 Friedberg
END:VEVENT
BEGIN:VEVENT
DTSTAMP:20260424T192234
DTSTART;TZID=Europe/Berlin:20260316T143000
DTEND;TZID=Europe/Berlin:20260316T151500
UID:F83508-01-20260316T143000@VHSLANDKREIS AICHACH-FRIEDBERG E.V.
SUMMARY:Musikalische Früherziehung auf der Basis von Keyboard oder E-Piano (ab 5 J.) (F83508-01) 
LOCATION:Friedberg; Wasserturm; Vorraum, Erdgeschoss, Lehleweg 5, 86316 Friedberg
END:VEVENT
BEGIN:VEVENT
DTSTAMP:20260424T192234
DTSTART;TZID=Europe/Berlin:20260323T143000
DTEND;TZID=Europe/Berlin:20260323T151500
UID:F83508-01-20260323T143000@VHSLANDKREIS AICHACH-FRIEDBERG E.V.
SUMMARY:Musikalische Früherziehung auf der Basis von Keyboard oder E-Piano (ab 5 J.) (F83508-01) 
LOCATION:Friedberg; Wasserturm; Vorraum, Erdgeschoss, Lehleweg 5, 86316 Friedberg
END:VEVENT
BEGIN:VEVENT
DTSTAMP:20260424T192234
DTSTART;TZID=Europe/Berlin:20260413T143000
DTEND;TZID=Europe/Berlin:20260413T151500
UID:F83508-01-20260413T143000@VHSLANDKREIS AICHACH-FRIEDBERG E.V.
SUMMARY:Musikalische Früherziehung auf der Basis von Keyboard oder E-Piano (ab 5 J.) (F83508-01) 
LOCATION:Friedberg; Wasserturm; Vorraum, Erdgeschoss, Lehleweg 5, 86316 Friedberg
END:VEVENT
BEGIN:VEVENT
DTSTAMP:20260424T192234
DTSTART;TZID=Europe/Berlin:20260420T143000
DTEND;TZID=Europe/Berlin:20260420T151500
UID:F83508-01-20260420T143000@VHSLANDKREIS AICHACH-FRIEDBERG E.V.
SUMMARY:Musikalische Früherziehung auf der Basis von Keyboard oder E-Piano (ab 5 J.) (F83508-01) 
LOCATION:Friedberg; Wasserturm; Vorraum, Erdgeschoss, Lehleweg 5, 86316 Friedberg
END:VEVENT
BEGIN:VEVENT
DTSTAMP:20260424T192234
DTSTART;TZID=Europe/Berlin:20260427T143000
DTEND;TZID=Europe/Berlin:20260427T151500
UID:F83508-01-20260427T143000@VHSLANDKREIS AICHACH-FRIEDBERG E.V.
SUMMARY:Musikalische Früherziehung auf der Basis von Keyboard oder E-Piano (ab 5 J.) (F83508-01) 
LOCATION:Friedberg; Wasserturm; Vorraum, Erdgeschoss, Lehleweg 5, 86316 Friedberg
END:VEVENT
BEGIN:VEVENT
DTSTAMP:20260424T192234
DTSTART;TZID=Europe/Berlin:20260504T143000
DTEND;TZID=Europe/Berlin:20260504T151500
UID:F83508-01-20260504T143000@VHSLANDKREIS AICHACH-FRIEDBERG E.V.
SUMMARY:Musikalische Früherziehung auf der Basis von Keyboard oder E-Piano (ab 5 J.) (F83508-01) 
LOCATION:Friedberg; Wasserturm; Vorraum, Erdgeschoss, Lehleweg 5, 86316 Friedberg
END:VEVENT
BEGIN:VEVENT
DTSTAMP:20260424T192234
DTSTART;TZID=Europe/Berlin:20260511T143000
DTEND;TZID=Europe/Berlin:20260511T151500
UID:F83508-01-20260511T143000@VHSLANDKREIS AICHACH-FRIEDBERG E.V.
SUMMARY:Musikalische Früherziehung auf der Basis von Keyboard oder E-Piano (ab 5 J.) (F83508-01) 
LOCATION:Friedberg; Wasserturm; Vorraum, Erdgeschoss, Lehleweg 5, 86316 Friedberg
END:VEVENT
BEGIN:VEVENT
DTSTAMP:20260424T192234
DTSTART;TZID=Europe/Berlin:20260518T143000
DTEND;TZID=Europe/Berlin:20260518T151500
UID:F83508-01-20260518T143000@VHSLANDKREIS AICHACH-FRIEDBERG E.V.
SUMMARY:Musikalische Früherziehung auf der Basis von Keyboard oder E-Piano (ab 5 J.) (F83508-01) 
LOCATION:Friedberg; Wasserturm; Vorraum, Erdgeschoss, Lehleweg 5, 86316 Friedberg
END:VEVENT
BEGIN:VEVENT
DTSTAMP:20260424T192234
DTSTART;TZID=Europe/Berlin:20260608T143000
DTEND;TZID=Europe/Berlin:20260608T151500
UID:F83508-01-20260608T143000@VHSLANDKREIS AICHACH-FRIEDBERG E.V.
SUMMARY:Musikalische Früherziehung auf der Basis von Keyboard oder E-Piano (ab 5 J.) (F83508-01) 
LOCATION:Friedberg; Wasserturm; Vorraum, Erdgeschoss, Lehleweg 5, 86316 Friedberg
END:VEVENT
BEGIN:VEVENT
DTSTAMP:20260424T192234
DTSTART;TZID=Europe/Berlin:20260615T143000
DTEND;TZID=Europe/Berlin:20260615T151500
UID:F83508-01-20260615T143000@VHSLANDKREIS AICHACH-FRIEDBERG E.V.
SUMMARY:Musikalische Früherziehung auf der Basis von Keyboard oder E-Piano (ab 5 J.) (F83508-01) 
LOCATION:Friedberg; Wasserturm; Vorraum, Erdgeschoss, Lehleweg 5, 86316 Friedberg
END:VEVENT
END:VCALENDAR