BEGIN:VCALENDAR
VERSION:2.0
PRODID:https://www.kufer.de/kuferweb / DE
METHOD:PUBLISH
CALSCALE:GREGORIAN
X-WR-TIMEZONE:Europe/Berlin
BEGIN:VTIMEZONE
TZID:Europe/Berlin
X-LIC-LOCATION:Europe/Berlin
BEGIN:DAYLIGHT
TZOFFSETFROM:+0100
TZOFFSETTO:+0200
TZNAME:CEST
DTSTART:19700329T020000
RRULE:FREQ=YEARLY;INTERVAL=1;BYDAY=-1SU;BYMONTH=3
END:DAYLIGHT
BEGIN:STANDARD
TZOFFSETFROM:+0200
TZOFFSETTO:+0100
TZNAME:CET
DTSTART:19701025T030000
RRULE:FREQ=YEARLY;INTERVAL=1;BYDAY=-1SU;BYMONTH=10
END:STANDARD
END:VTIMEZONE
BEGIN:VEVENT
DTSTAMP:20260424T173357
DTSTART;TZID=Europe/Berlin:20260305T183000
DTEND;TZID=Europe/Berlin:20260305T194000
UID:F53213-01-20260305T183000@VHSLANDKREIS AICHACH-FRIEDBERG E.V.
SUMMARY:Tanzkurs -für Geübte (F53213-01) 
LOCATION:Merching; Grund-/Mittelschule; Turnhalle, Kirchstraße 15, 86504 Merching
END:VEVENT
BEGIN:VEVENT
DTSTAMP:20260424T173357
DTSTART;TZID=Europe/Berlin:20260312T183000
DTEND;TZID=Europe/Berlin:20260312T194000
UID:F53213-01-20260312T183000@VHSLANDKREIS AICHACH-FRIEDBERG E.V.
SUMMARY:Tanzkurs -für Geübte (F53213-01) 
LOCATION:Merching; Grund-/Mittelschule; Turnhalle, Kirchstraße 15, 86504 Merching
END:VEVENT
BEGIN:VEVENT
DTSTAMP:20260424T173357
DTSTART;TZID=Europe/Berlin:20260319T183000
DTEND;TZID=Europe/Berlin:20260319T194000
UID:F53213-01-20260319T183000@VHSLANDKREIS AICHACH-FRIEDBERG E.V.
SUMMARY:Tanzkurs -für Geübte (F53213-01) 
LOCATION:Merching; Grund-/Mittelschule; Turnhalle, Kirchstraße 15, 86504 Merching
END:VEVENT
BEGIN:VEVENT
DTSTAMP:20260424T173357
DTSTART;TZID=Europe/Berlin:20260326T183000
DTEND;TZID=Europe/Berlin:20260326T194000
UID:F53213-01-20260326T183000@VHSLANDKREIS AICHACH-FRIEDBERG E.V.
SUMMARY:Tanzkurs -für Geübte (F53213-01) 
LOCATION:Merching; Grund-/Mittelschule; Turnhalle, Kirchstraße 15, 86504 Merching
END:VEVENT
BEGIN:VEVENT
DTSTAMP:20260424T173357
DTSTART;TZID=Europe/Berlin:20260416T183000
DTEND;TZID=Europe/Berlin:20260416T194000
UID:F53213-01-20260416T183000@VHSLANDKREIS AICHACH-FRIEDBERG E.V.
SUMMARY:Tanzkurs -für Geübte (F53213-01) 
LOCATION:Merching; Grund-/Mittelschule; Turnhalle, Kirchstraße 15, 86504 Merching
END:VEVENT
BEGIN:VEVENT
DTSTAMP:20260424T173357
DTSTART;TZID=Europe/Berlin:20260423T183000
DTEND;TZID=Europe/Berlin:20260423T194000
UID:F53213-01-20260423T183000@VHSLANDKREIS AICHACH-FRIEDBERG E.V.
SUMMARY:Tanzkurs -für Geübte (F53213-01) 
LOCATION:Merching; Grund-/Mittelschule; Turnhalle, Kirchstraße 15, 86504 Merching
END:VEVENT
BEGIN:VEVENT
DTSTAMP:20260424T173357
DTSTART;TZID=Europe/Berlin:20260430T183000
DTEND;TZID=Europe/Berlin:20260430T194000
UID:F53213-01-20260430T183000@VHSLANDKREIS AICHACH-FRIEDBERG E.V.
SUMMARY:Tanzkurs -für Geübte (F53213-01) 
LOCATION:Merching; Grund-/Mittelschule; Turnhalle, Kirchstraße 15, 86504 Merching
END:VEVENT
BEGIN:VEVENT
DTSTAMP:20260424T173357
DTSTART;TZID=Europe/Berlin:20260507T183000
DTEND;TZID=Europe/Berlin:20260507T194000
UID:F53213-01-20260507T183000@VHSLANDKREIS AICHACH-FRIEDBERG E.V.
SUMMARY:Tanzkurs -für Geübte (F53213-01) 
LOCATION:Merching; Grund-/Mittelschule; Turnhalle, Kirchstraße 15, 86504 Merching
END:VEVENT
END:VCALENDAR