BEGIN:VCALENDAR
VERSION:2.0
PRODID:https://www.kufer.de/kuferweb / DE
METHOD:PUBLISH
CALSCALE:GREGORIAN
X-WR-TIMEZONE:Europe/Berlin
BEGIN:VTIMEZONE
TZID:Europe/Berlin
X-LIC-LOCATION:Europe/Berlin
BEGIN:DAYLIGHT
TZOFFSETFROM:+0100
TZOFFSETTO:+0200
TZNAME:CEST
DTSTART:19700329T020000
RRULE:FREQ=YEARLY;INTERVAL=1;BYDAY=-1SU;BYMONTH=3
END:DAYLIGHT
BEGIN:STANDARD
TZOFFSETFROM:+0200
TZOFFSETTO:+0100
TZNAME:CET
DTSTART:19701025T030000
RRULE:FREQ=YEARLY;INTERVAL=1;BYDAY=-1SU;BYMONTH=10
END:STANDARD
END:VTIMEZONE
BEGIN:VEVENT
DTSTAMP:20260424T175641
DTSTART;TZID=Europe/Berlin:20260301T183000
DTEND;TZID=Europe/Berlin:20260301T194500
UID:F53203-06-20260301T183000@VHSLANDKREIS AICHACH-FRIEDBERG E.V.
SUMMARY:Standard-und Lateinamerikanische Tänze VII Gold, 1. Teil (F53203-06) 
LOCATION:Aichach; Ludwig-Steub-Grundschule; Aula, Ludwigstraße 22, 86551 Aichach
END:VEVENT
BEGIN:VEVENT
DTSTAMP:20260424T175641
DTSTART;TZID=Europe/Berlin:20260315T183000
DTEND;TZID=Europe/Berlin:20260315T194500
UID:F53203-06-20260315T183000@VHSLANDKREIS AICHACH-FRIEDBERG E.V.
SUMMARY:Standard-und Lateinamerikanische Tänze VII Gold, 1. Teil (F53203-06) 
LOCATION:Aichach; Ludwig-Steub-Grundschule; Aula, Ludwigstraße 22, 86551 Aichach
END:VEVENT
BEGIN:VEVENT
DTSTAMP:20260424T175641
DTSTART;TZID=Europe/Berlin:20260322T173000
DTEND;TZID=Europe/Berlin:20260322T184500
UID:F53203-06-20260322T173000@VHSLANDKREIS AICHACH-FRIEDBERG E.V.
SUMMARY:Standard-und Lateinamerikanische Tänze VII Gold, 1. Teil (F53203-06) 
LOCATION:Aichach; Grundschule Nord; Musikraum, Raum 26, Mozartstraße 1, 86551 Aichach
END:VEVENT
BEGIN:VEVENT
DTSTAMP:20260424T175641
DTSTART;TZID=Europe/Berlin:20260419T183000
DTEND;TZID=Europe/Berlin:20260419T194500
UID:F53203-06-20260419T183000@VHSLANDKREIS AICHACH-FRIEDBERG E.V.
SUMMARY:Standard-und Lateinamerikanische Tänze VII Gold, 1. Teil (F53203-06) 
LOCATION:Aichach; Grundschule Nord; Aula, Mozartstraße 1, 86551 Aichach
END:VEVENT
BEGIN:VEVENT
DTSTAMP:20260424T175641
DTSTART;TZID=Europe/Berlin:20260426T183000
DTEND;TZID=Europe/Berlin:20260426T194500
UID:F53203-06-20260426T183000@VHSLANDKREIS AICHACH-FRIEDBERG E.V.
SUMMARY:Standard-und Lateinamerikanische Tänze VII Gold, 1. Teil (F53203-06) 
LOCATION:Aichach; Grundschule Nord; Aula, Mozartstraße 1, 86551 Aichach
END:VEVENT
END:VCALENDAR