BEGIN:VCALENDAR
VERSION:2.0
PRODID:https://www.kufer.de/kuferweb / DE
METHOD:PUBLISH
CALSCALE:GREGORIAN
X-WR-TIMEZONE:Europe/Berlin
BEGIN:VTIMEZONE
TZID:Europe/Berlin
X-LIC-LOCATION:Europe/Berlin
BEGIN:DAYLIGHT
TZOFFSETFROM:+0100
TZOFFSETTO:+0200
TZNAME:CEST
DTSTART:19700329T020000
RRULE:FREQ=YEARLY;INTERVAL=1;BYDAY=-1SU;BYMONTH=3
END:DAYLIGHT
BEGIN:STANDARD
TZOFFSETFROM:+0200
TZOFFSETTO:+0100
TZNAME:CET
DTSTART:19701025T030000
RRULE:FREQ=YEARLY;INTERVAL=1;BYDAY=-1SU;BYMONTH=10
END:STANDARD
END:VTIMEZONE
BEGIN:VEVENT
DTSTAMP:20260424T190033
DTSTART;TZID=Europe/Berlin:20260622T190000
DTEND;TZID=Europe/Berlin:20260622T200000
UID:F52217-02-20260622T190000@VHSLANDKREIS AICHACH-FRIEDBERG E.V.
SUMMARY:Pilates (F52217-02) 
LOCATION:Pöttmes; Kindergarten Spatzennest, Unterfeldstraße 50, 86554 Pöttmes
END:VEVENT
BEGIN:VEVENT
DTSTAMP:20260424T190033
DTSTART;TZID=Europe/Berlin:20260629T190000
DTEND;TZID=Europe/Berlin:20260629T200000
UID:F52217-02-20260629T190000@VHSLANDKREIS AICHACH-FRIEDBERG E.V.
SUMMARY:Pilates (F52217-02) 
LOCATION:Pöttmes; Kindergarten Spatzennest, Unterfeldstraße 50, 86554 Pöttmes
END:VEVENT
BEGIN:VEVENT
DTSTAMP:20260424T190033
DTSTART;TZID=Europe/Berlin:20260706T190000
DTEND;TZID=Europe/Berlin:20260706T200000
UID:F52217-02-20260706T190000@VHSLANDKREIS AICHACH-FRIEDBERG E.V.
SUMMARY:Pilates (F52217-02) 
LOCATION:Pöttmes; Kindergarten Spatzennest, Unterfeldstraße 50, 86554 Pöttmes
END:VEVENT
BEGIN:VEVENT
DTSTAMP:20260424T190033
DTSTART;TZID=Europe/Berlin:20260713T190000
DTEND;TZID=Europe/Berlin:20260713T200000
UID:F52217-02-20260713T190000@VHSLANDKREIS AICHACH-FRIEDBERG E.V.
SUMMARY:Pilates (F52217-02) 
LOCATION:Pöttmes; Kindergarten Spatzennest, Unterfeldstraße 50, 86554 Pöttmes
END:VEVENT
BEGIN:VEVENT
DTSTAMP:20260424T190033
DTSTART;TZID=Europe/Berlin:20260720T190000
DTEND;TZID=Europe/Berlin:20260720T200000
UID:F52217-02-20260720T190000@VHSLANDKREIS AICHACH-FRIEDBERG E.V.
SUMMARY:Pilates (F52217-02) 
LOCATION:Pöttmes; Kindergarten Spatzennest, Unterfeldstraße 50, 86554 Pöttmes
END:VEVENT
BEGIN:VEVENT
DTSTAMP:20260424T190033
DTSTART;TZID=Europe/Berlin:20260727T190000
DTEND;TZID=Europe/Berlin:20260727T200000
UID:F52217-02-20260727T190000@VHSLANDKREIS AICHACH-FRIEDBERG E.V.
SUMMARY:Pilates (F52217-02) 
LOCATION:Pöttmes; Kindergarten Spatzennest, Unterfeldstraße 50, 86554 Pöttmes
END:VEVENT
END:VCALENDAR