BEGIN:VCALENDAR
VERSION:2.0
PRODID:https://www.kufer.de/kuferweb / DE
METHOD:PUBLISH
CALSCALE:GREGORIAN
X-WR-TIMEZONE:Europe/Berlin
BEGIN:VTIMEZONE
TZID:Europe/Berlin
X-LIC-LOCATION:Europe/Berlin
BEGIN:DAYLIGHT
TZOFFSETFROM:+0100
TZOFFSETTO:+0200
TZNAME:CEST
DTSTART:19700329T020000
RRULE:FREQ=YEARLY;INTERVAL=1;BYDAY=-1SU;BYMONTH=3
END:DAYLIGHT
BEGIN:STANDARD
TZOFFSETFROM:+0200
TZOFFSETTO:+0100
TZNAME:CET
DTSTART:19701025T030000
RRULE:FREQ=YEARLY;INTERVAL=1;BYDAY=-1SU;BYMONTH=10
END:STANDARD
END:VTIMEZONE
BEGIN:VEVENT
DTSTAMP:20260424T175558
DTSTART;TZID=Europe/Berlin:20260702T194500
DTEND;TZID=Europe/Berlin:20260702T204500
UID:F52215-05-20260702T194500@VHSLANDKREIS AICHACH-FRIEDBERG E.V.
SUMMARY:Pilates für Anf./Fortg. -Outdoor (F52215-05) 
LOCATION:Obergriesbach; ehem. Schule; Hartplatz hinter der Turnhalle, Tannenweg 1, 86573 Obergriesbach
END:VEVENT
BEGIN:VEVENT
DTSTAMP:20260424T175558
DTSTART;TZID=Europe/Berlin:20260709T194500
DTEND;TZID=Europe/Berlin:20260709T204500
UID:F52215-05-20260709T194500@VHSLANDKREIS AICHACH-FRIEDBERG E.V.
SUMMARY:Pilates für Anf./Fortg. -Outdoor (F52215-05) 
LOCATION:Obergriesbach; ehem. Schule; Hartplatz hinter der Turnhalle, Tannenweg 1, 86573 Obergriesbach
END:VEVENT
BEGIN:VEVENT
DTSTAMP:20260424T175558
DTSTART;TZID=Europe/Berlin:20260716T194500
DTEND;TZID=Europe/Berlin:20260716T204500
UID:F52215-05-20260716T194500@VHSLANDKREIS AICHACH-FRIEDBERG E.V.
SUMMARY:Pilates für Anf./Fortg. -Outdoor (F52215-05) 
LOCATION:Obergriesbach; ehem. Schule; Hartplatz hinter der Turnhalle, Tannenweg 1, 86573 Obergriesbach
END:VEVENT
BEGIN:VEVENT
DTSTAMP:20260424T175558
DTSTART;TZID=Europe/Berlin:20260723T194500
DTEND;TZID=Europe/Berlin:20260723T204500
UID:F52215-05-20260723T194500@VHSLANDKREIS AICHACH-FRIEDBERG E.V.
SUMMARY:Pilates für Anf./Fortg. -Outdoor (F52215-05) 
LOCATION:Obergriesbach; ehem. Schule; Hartplatz hinter der Turnhalle, Tannenweg 1, 86573 Obergriesbach
END:VEVENT
BEGIN:VEVENT
DTSTAMP:20260424T175558
DTSTART;TZID=Europe/Berlin:20260730T194500
DTEND;TZID=Europe/Berlin:20260730T204500
UID:F52215-05-20260730T194500@VHSLANDKREIS AICHACH-FRIEDBERG E.V.
SUMMARY:Pilates für Anf./Fortg. -Outdoor (F52215-05) 
LOCATION:Obergriesbach; ehem. Schule; Hartplatz hinter der Turnhalle, Tannenweg 1, 86573 Obergriesbach
END:VEVENT
END:VCALENDAR