BEGIN:VCALENDAR
VERSION:2.0
PRODID:https://www.kufer.de/kuferweb / DE
METHOD:PUBLISH
CALSCALE:GREGORIAN
X-WR-TIMEZONE:Europe/Berlin
BEGIN:VTIMEZONE
TZID:Europe/Berlin
X-LIC-LOCATION:Europe/Berlin
BEGIN:DAYLIGHT
TZOFFSETFROM:+0100
TZOFFSETTO:+0200
TZNAME:CEST
DTSTART:19700329T020000
RRULE:FREQ=YEARLY;INTERVAL=1;BYDAY=-1SU;BYMONTH=3
END:DAYLIGHT
BEGIN:STANDARD
TZOFFSETFROM:+0200
TZOFFSETTO:+0100
TZNAME:CET
DTSTART:19701025T030000
RRULE:FREQ=YEARLY;INTERVAL=1;BYDAY=-1SU;BYMONTH=10
END:STANDARD
END:VTIMEZONE
BEGIN:VEVENT
DTSTAMP:20260424T175553
DTSTART;TZID=Europe/Berlin:20260305T194500
DTEND;TZID=Europe/Berlin:20260305T204500
UID:F52215-03-20260305T194500@VHSLANDKREIS AICHACH-FRIEDBERG E.V.
SUMMARY:Pilates für Anf./Fortg. (F52215-03) 
LOCATION:Obergriesbach; ehem. Schule; 1. OG, Tannenweg 1, 86573 Obergriesbach
END:VEVENT
BEGIN:VEVENT
DTSTAMP:20260424T175553
DTSTART;TZID=Europe/Berlin:20260312T194500
DTEND;TZID=Europe/Berlin:20260312T204500
UID:F52215-03-20260312T194500@VHSLANDKREIS AICHACH-FRIEDBERG E.V.
SUMMARY:Pilates für Anf./Fortg. (F52215-03) 
LOCATION:Obergriesbach; ehem. Schule; 1. OG, Tannenweg 1, 86573 Obergriesbach
END:VEVENT
BEGIN:VEVENT
DTSTAMP:20260424T175553
DTSTART;TZID=Europe/Berlin:20260319T194500
DTEND;TZID=Europe/Berlin:20260319T204500
UID:F52215-03-20260319T194500@VHSLANDKREIS AICHACH-FRIEDBERG E.V.
SUMMARY:Pilates für Anf./Fortg. (F52215-03) 
LOCATION:Obergriesbach; ehem. Schule; 1. OG, Tannenweg 1, 86573 Obergriesbach
END:VEVENT
BEGIN:VEVENT
DTSTAMP:20260424T175553
DTSTART;TZID=Europe/Berlin:20260326T194500
DTEND;TZID=Europe/Berlin:20260326T204500
UID:F52215-03-20260326T194500@VHSLANDKREIS AICHACH-FRIEDBERG E.V.
SUMMARY:Pilates für Anf./Fortg. (F52215-03) 
LOCATION:Obergriesbach; ehem. Schule; 1. OG, Tannenweg 1, 86573 Obergriesbach
END:VEVENT
BEGIN:VEVENT
DTSTAMP:20260424T175553
DTSTART;TZID=Europe/Berlin:20260416T194500
DTEND;TZID=Europe/Berlin:20260416T204500
UID:F52215-03-20260416T194500@VHSLANDKREIS AICHACH-FRIEDBERG E.V.
SUMMARY:Pilates für Anf./Fortg. (F52215-03) 
LOCATION:Obergriesbach; ehem. Schule; 1. OG, Tannenweg 1, 86573 Obergriesbach
END:VEVENT
BEGIN:VEVENT
DTSTAMP:20260424T175553
DTSTART;TZID=Europe/Berlin:20260423T194500
DTEND;TZID=Europe/Berlin:20260423T204500
UID:F52215-03-20260423T194500@VHSLANDKREIS AICHACH-FRIEDBERG E.V.
SUMMARY:Pilates für Anf./Fortg. (F52215-03) 
LOCATION:Obergriesbach; ehem. Schule; 1. OG, Tannenweg 1, 86573 Obergriesbach
END:VEVENT
BEGIN:VEVENT
DTSTAMP:20260424T175553
DTSTART;TZID=Europe/Berlin:20260430T194500
DTEND;TZID=Europe/Berlin:20260430T204500
UID:F52215-03-20260430T194500@VHSLANDKREIS AICHACH-FRIEDBERG E.V.
SUMMARY:Pilates für Anf./Fortg. (F52215-03) 
LOCATION:Obergriesbach; ehem. Schule; 1. OG, Tannenweg 1, 86573 Obergriesbach
END:VEVENT
BEGIN:VEVENT
DTSTAMP:20260424T175553
DTSTART;TZID=Europe/Berlin:20260507T194500
DTEND;TZID=Europe/Berlin:20260507T204500
UID:F52215-03-20260507T194500@VHSLANDKREIS AICHACH-FRIEDBERG E.V.
SUMMARY:Pilates für Anf./Fortg. (F52215-03) 
LOCATION:Obergriesbach; ehem. Schule; 1. OG, Tannenweg 1, 86573 Obergriesbach
END:VEVENT
BEGIN:VEVENT
DTSTAMP:20260424T175553
DTSTART;TZID=Europe/Berlin:20260521T194500
DTEND;TZID=Europe/Berlin:20260521T204500
UID:F52215-03-20260521T194500@VHSLANDKREIS AICHACH-FRIEDBERG E.V.
SUMMARY:Pilates für Anf./Fortg. (F52215-03) 
LOCATION:Obergriesbach; ehem. Schule; 1. OG, Tannenweg 1, 86573 Obergriesbach
END:VEVENT
BEGIN:VEVENT
DTSTAMP:20260424T175553
DTSTART;TZID=Europe/Berlin:20260611T194500
DTEND;TZID=Europe/Berlin:20260611T204500
UID:F52215-03-20260611T194500@VHSLANDKREIS AICHACH-FRIEDBERG E.V.
SUMMARY:Pilates für Anf./Fortg. (F52215-03) 
LOCATION:Obergriesbach; ehem. Schule; 1. OG, Tannenweg 1, 86573 Obergriesbach
END:VEVENT
BEGIN:VEVENT
DTSTAMP:20260424T175553
DTSTART;TZID=Europe/Berlin:20260618T194500
DTEND;TZID=Europe/Berlin:20260618T204500
UID:F52215-03-20260618T194500@VHSLANDKREIS AICHACH-FRIEDBERG E.V.
SUMMARY:Pilates für Anf./Fortg. (F52215-03) 
LOCATION:Obergriesbach; ehem. Schule; 1. OG, Tannenweg 1, 86573 Obergriesbach
END:VEVENT
BEGIN:VEVENT
DTSTAMP:20260424T175553
DTSTART;TZID=Europe/Berlin:20260625T194500
DTEND;TZID=Europe/Berlin:20260625T204500
UID:F52215-03-20260625T194500@VHSLANDKREIS AICHACH-FRIEDBERG E.V.
SUMMARY:Pilates für Anf./Fortg. (F52215-03) 
LOCATION:Obergriesbach; ehem. Schule; 1. OG, Tannenweg 1, 86573 Obergriesbach
END:VEVENT
END:VCALENDAR