BEGIN:VCALENDAR
VERSION:2.0
PRODID:https://www.kufer.de/kuferweb / DE
METHOD:PUBLISH
CALSCALE:GREGORIAN
X-WR-TIMEZONE:Europe/Berlin
BEGIN:VTIMEZONE
TZID:Europe/Berlin
X-LIC-LOCATION:Europe/Berlin
BEGIN:DAYLIGHT
TZOFFSETFROM:+0100
TZOFFSETTO:+0200
TZNAME:CEST
DTSTART:19700329T020000
RRULE:FREQ=YEARLY;INTERVAL=1;BYDAY=-1SU;BYMONTH=3
END:DAYLIGHT
BEGIN:STANDARD
TZOFFSETFROM:+0200
TZOFFSETTO:+0100
TZNAME:CET
DTSTART:19701025T030000
RRULE:FREQ=YEARLY;INTERVAL=1;BYDAY=-1SU;BYMONTH=10
END:STANDARD
END:VTIMEZONE
BEGIN:VEVENT
DTSTAMP:20260424T173402
DTSTART;TZID=Europe/Berlin:20260310T090000
DTEND;TZID=Europe/Berlin:20260310T100000
UID:F52213-03-20260310T090000@VHSLANDKREIS AICHACH-FRIEDBERG E.V.
SUMMARY:Pilates (F52213-03) 
LOCATION:Merching; Mehrzweckhalle; Tischtennisraum, Kirchstraße 17, 86504 Merching
END:VEVENT
BEGIN:VEVENT
DTSTAMP:20260424T173402
DTSTART;TZID=Europe/Berlin:20260317T090000
DTEND;TZID=Europe/Berlin:20260317T100000
UID:F52213-03-20260317T090000@VHSLANDKREIS AICHACH-FRIEDBERG E.V.
SUMMARY:Pilates (F52213-03) 
LOCATION:Merching; Mehrzweckhalle; Tischtennisraum, Kirchstraße 17, 86504 Merching
END:VEVENT
BEGIN:VEVENT
DTSTAMP:20260424T173402
DTSTART;TZID=Europe/Berlin:20260324T090000
DTEND;TZID=Europe/Berlin:20260324T100000
UID:F52213-03-20260324T090000@VHSLANDKREIS AICHACH-FRIEDBERG E.V.
SUMMARY:Pilates (F52213-03) 
LOCATION:Merching; Mehrzweckhalle; Tischtennisraum, Kirchstraße 17, 86504 Merching
END:VEVENT
BEGIN:VEVENT
DTSTAMP:20260424T173402
DTSTART;TZID=Europe/Berlin:20260414T090000
DTEND;TZID=Europe/Berlin:20260414T100000
UID:F52213-03-20260414T090000@VHSLANDKREIS AICHACH-FRIEDBERG E.V.
SUMMARY:Pilates (F52213-03) 
LOCATION:Merching; Mehrzweckhalle; Tischtennisraum, Kirchstraße 17, 86504 Merching
END:VEVENT
BEGIN:VEVENT
DTSTAMP:20260424T173402
DTSTART;TZID=Europe/Berlin:20260421T090000
DTEND;TZID=Europe/Berlin:20260421T100000
UID:F52213-03-20260421T090000@VHSLANDKREIS AICHACH-FRIEDBERG E.V.
SUMMARY:Pilates (F52213-03) 
LOCATION:Merching; Mehrzweckhalle; Tischtennisraum, Kirchstraße 17, 86504 Merching
END:VEVENT
BEGIN:VEVENT
DTSTAMP:20260424T173402
DTSTART;TZID=Europe/Berlin:20260428T090000
DTEND;TZID=Europe/Berlin:20260428T100000
UID:F52213-03-20260428T090000@VHSLANDKREIS AICHACH-FRIEDBERG E.V.
SUMMARY:Pilates (F52213-03) 
LOCATION:Merching; Mehrzweckhalle; Tischtennisraum, Kirchstraße 17, 86504 Merching
END:VEVENT
BEGIN:VEVENT
DTSTAMP:20260424T173402
DTSTART;TZID=Europe/Berlin:20260505T090000
DTEND;TZID=Europe/Berlin:20260505T100000
UID:F52213-03-20260505T090000@VHSLANDKREIS AICHACH-FRIEDBERG E.V.
SUMMARY:Pilates (F52213-03) 
LOCATION:Merching; Mehrzweckhalle; Tischtennisraum, Kirchstraße 17, 86504 Merching
END:VEVENT
BEGIN:VEVENT
DTSTAMP:20260424T173402
DTSTART;TZID=Europe/Berlin:20260512T090000
DTEND;TZID=Europe/Berlin:20260512T100000
UID:F52213-03-20260512T090000@VHSLANDKREIS AICHACH-FRIEDBERG E.V.
SUMMARY:Pilates (F52213-03) 
LOCATION:Merching; Mehrzweckhalle; Tischtennisraum, Kirchstraße 17, 86504 Merching
END:VEVENT
BEGIN:VEVENT
DTSTAMP:20260424T173402
DTSTART;TZID=Europe/Berlin:20260519T090000
DTEND;TZID=Europe/Berlin:20260519T100000
UID:F52213-03-20260519T090000@VHSLANDKREIS AICHACH-FRIEDBERG E.V.
SUMMARY:Pilates (F52213-03) 
LOCATION:Merching; Mehrzweckhalle; Tischtennisraum, Kirchstraße 17, 86504 Merching
END:VEVENT
END:VCALENDAR