BEGIN:VCALENDAR
VERSION:2.0
PRODID:https://www.kufer.de/kuferweb / DE
METHOD:PUBLISH
CALSCALE:GREGORIAN
X-WR-TIMEZONE:Europe/Berlin
BEGIN:VTIMEZONE
TZID:Europe/Berlin
X-LIC-LOCATION:Europe/Berlin
BEGIN:DAYLIGHT
TZOFFSETFROM:+0100
TZOFFSETTO:+0200
TZNAME:CEST
DTSTART:19700329T020000
RRULE:FREQ=YEARLY;INTERVAL=1;BYDAY=-1SU;BYMONTH=3
END:DAYLIGHT
BEGIN:STANDARD
TZOFFSETFROM:+0200
TZOFFSETTO:+0100
TZNAME:CET
DTSTART:19701025T030000
RRULE:FREQ=YEARLY;INTERVAL=1;BYDAY=-1SU;BYMONTH=10
END:STANDARD
END:VTIMEZONE
BEGIN:VEVENT
DTSTAMP:20260424T173338
DTSTART;TZID=Europe/Berlin:20260310T082500
DTEND;TZID=Europe/Berlin:20260310T085500
UID:F52213-01-20260310T082500@VHSLANDKREIS AICHACH-FRIEDBERG E.V.
SUMMARY:Full Body Stretch, Dehnen für den ganzen Körper (F52213-01) 
LOCATION:Merching; Mehrzweckhalle; Tischtennisraum, Kirchstraße 17, 86504 Merching
END:VEVENT
BEGIN:VEVENT
DTSTAMP:20260424T173338
DTSTART;TZID=Europe/Berlin:20260317T082500
DTEND;TZID=Europe/Berlin:20260317T085500
UID:F52213-01-20260317T082500@VHSLANDKREIS AICHACH-FRIEDBERG E.V.
SUMMARY:Full Body Stretch, Dehnen für den ganzen Körper (F52213-01) 
LOCATION:Merching; Mehrzweckhalle; Tischtennisraum, Kirchstraße 17, 86504 Merching
END:VEVENT
BEGIN:VEVENT
DTSTAMP:20260424T173338
DTSTART;TZID=Europe/Berlin:20260324T082500
DTEND;TZID=Europe/Berlin:20260324T085500
UID:F52213-01-20260324T082500@VHSLANDKREIS AICHACH-FRIEDBERG E.V.
SUMMARY:Full Body Stretch, Dehnen für den ganzen Körper (F52213-01) 
LOCATION:Merching; Mehrzweckhalle; Tischtennisraum, Kirchstraße 17, 86504 Merching
END:VEVENT
BEGIN:VEVENT
DTSTAMP:20260424T173338
DTSTART;TZID=Europe/Berlin:20260414T082500
DTEND;TZID=Europe/Berlin:20260414T085500
UID:F52213-01-20260414T082500@VHSLANDKREIS AICHACH-FRIEDBERG E.V.
SUMMARY:Full Body Stretch, Dehnen für den ganzen Körper (F52213-01) 
LOCATION:Merching; Mehrzweckhalle; Tischtennisraum, Kirchstraße 17, 86504 Merching
END:VEVENT
BEGIN:VEVENT
DTSTAMP:20260424T173338
DTSTART;TZID=Europe/Berlin:20260421T082500
DTEND;TZID=Europe/Berlin:20260421T085500
UID:F52213-01-20260421T082500@VHSLANDKREIS AICHACH-FRIEDBERG E.V.
SUMMARY:Full Body Stretch, Dehnen für den ganzen Körper (F52213-01) 
LOCATION:Merching; Mehrzweckhalle; Tischtennisraum, Kirchstraße 17, 86504 Merching
END:VEVENT
BEGIN:VEVENT
DTSTAMP:20260424T173338
DTSTART;TZID=Europe/Berlin:20260428T082500
DTEND;TZID=Europe/Berlin:20260428T085500
UID:F52213-01-20260428T082500@VHSLANDKREIS AICHACH-FRIEDBERG E.V.
SUMMARY:Full Body Stretch, Dehnen für den ganzen Körper (F52213-01) 
LOCATION:Merching; Mehrzweckhalle; Tischtennisraum, Kirchstraße 17, 86504 Merching
END:VEVENT
BEGIN:VEVENT
DTSTAMP:20260424T173338
DTSTART;TZID=Europe/Berlin:20260505T082500
DTEND;TZID=Europe/Berlin:20260505T085500
UID:F52213-01-20260505T082500@VHSLANDKREIS AICHACH-FRIEDBERG E.V.
SUMMARY:Full Body Stretch, Dehnen für den ganzen Körper (F52213-01) 
LOCATION:Merching; Mehrzweckhalle; Tischtennisraum, Kirchstraße 17, 86504 Merching
END:VEVENT
BEGIN:VEVENT
DTSTAMP:20260424T173338
DTSTART;TZID=Europe/Berlin:20260512T082500
DTEND;TZID=Europe/Berlin:20260512T085500
UID:F52213-01-20260512T082500@VHSLANDKREIS AICHACH-FRIEDBERG E.V.
SUMMARY:Full Body Stretch, Dehnen für den ganzen Körper (F52213-01) 
LOCATION:Merching; Mehrzweckhalle; Tischtennisraum, Kirchstraße 17, 86504 Merching
END:VEVENT
BEGIN:VEVENT
DTSTAMP:20260424T173338
DTSTART;TZID=Europe/Berlin:20260519T082500
DTEND;TZID=Europe/Berlin:20260519T085500
UID:F52213-01-20260519T082500@VHSLANDKREIS AICHACH-FRIEDBERG E.V.
SUMMARY:Full Body Stretch, Dehnen für den ganzen Körper (F52213-01) 
LOCATION:Merching; Mehrzweckhalle; Tischtennisraum, Kirchstraße 17, 86504 Merching
END:VEVENT
END:VCALENDAR