BEGIN:VCALENDAR
VERSION:2.0
PRODID:https://www.kufer.de/kuferweb / DE
METHOD:PUBLISH
CALSCALE:GREGORIAN
X-WR-TIMEZONE:Europe/Berlin
BEGIN:VTIMEZONE
TZID:Europe/Berlin
X-LIC-LOCATION:Europe/Berlin
BEGIN:DAYLIGHT
TZOFFSETFROM:+0100
TZOFFSETTO:+0200
TZNAME:CEST
DTSTART:19700329T020000
RRULE:FREQ=YEARLY;INTERVAL=1;BYDAY=-1SU;BYMONTH=3
END:DAYLIGHT
BEGIN:STANDARD
TZOFFSETFROM:+0200
TZOFFSETTO:+0100
TZNAME:CET
DTSTART:19701025T030000
RRULE:FREQ=YEARLY;INTERVAL=1;BYDAY=-1SU;BYMONTH=10
END:STANDARD
END:VTIMEZONE
BEGIN:VEVENT
DTSTAMP:20260424T175622
DTSTART;TZID=Europe/Berlin:20260609T190000
DTEND;TZID=Europe/Berlin:20260609T200000
UID:F52115-03-20260609T190000@VHSLANDKREIS AICHACH-FRIEDBERG E.V.
SUMMARY:Beckenbodentraining in den Wechseljahren (F52115-03) 
LOCATION:Obergriesbach; ehem. Schule; 1. OG, Tannenweg 1, 86573 Obergriesbach
END:VEVENT
BEGIN:VEVENT
DTSTAMP:20260424T175622
DTSTART;TZID=Europe/Berlin:20260616T190000
DTEND;TZID=Europe/Berlin:20260616T200000
UID:F52115-03-20260616T190000@VHSLANDKREIS AICHACH-FRIEDBERG E.V.
SUMMARY:Beckenbodentraining in den Wechseljahren (F52115-03) 
LOCATION:Obergriesbach; ehem. Schule; 1. OG, Tannenweg 1, 86573 Obergriesbach
END:VEVENT
BEGIN:VEVENT
DTSTAMP:20260424T175622
DTSTART;TZID=Europe/Berlin:20260623T190000
DTEND;TZID=Europe/Berlin:20260623T200000
UID:F52115-03-20260623T190000@VHSLANDKREIS AICHACH-FRIEDBERG E.V.
SUMMARY:Beckenbodentraining in den Wechseljahren (F52115-03) 
LOCATION:Obergriesbach; ehem. Schule; 1. OG, Tannenweg 1, 86573 Obergriesbach
END:VEVENT
BEGIN:VEVENT
DTSTAMP:20260424T175622
DTSTART;TZID=Europe/Berlin:20260630T190000
DTEND;TZID=Europe/Berlin:20260630T200000
UID:F52115-03-20260630T190000@VHSLANDKREIS AICHACH-FRIEDBERG E.V.
SUMMARY:Beckenbodentraining in den Wechseljahren (F52115-03) 
LOCATION:Obergriesbach; ehem. Schule; 1. OG, Tannenweg 1, 86573 Obergriesbach
END:VEVENT
END:VCALENDAR