BEGIN:VCALENDAR
VERSION:2.0
PRODID:https://www.kufer.de/kuferweb / DE
METHOD:PUBLISH
CALSCALE:GREGORIAN
X-WR-TIMEZONE:Europe/Berlin
BEGIN:VTIMEZONE
TZID:Europe/Berlin
X-LIC-LOCATION:Europe/Berlin
BEGIN:DAYLIGHT
TZOFFSETFROM:+0100
TZOFFSETTO:+0200
TZNAME:CEST
DTSTART:19700329T020000
RRULE:FREQ=YEARLY;INTERVAL=1;BYDAY=-1SU;BYMONTH=3
END:DAYLIGHT
BEGIN:STANDARD
TZOFFSETFROM:+0200
TZOFFSETTO:+0100
TZNAME:CET
DTSTART:19701025T030000
RRULE:FREQ=YEARLY;INTERVAL=1;BYDAY=-1SU;BYMONTH=10
END:STANDARD
END:VTIMEZONE
BEGIN:VEVENT
DTSTAMP:20260423T230702
DTSTART;TZID=Europe/Berlin:20260223T192000
DTEND;TZID=Europe/Berlin:20260223T202000
UID:F52112-02-20260223T192000@VHSLANDKREIS AICHACH-FRIEDBERG E.V.
SUMMARY:Funktionelles Rückentraining -intensiv! (F52112-02) 
LOCATION:Kühbach; Grund-/Mittelschule; Gymnastikraum, Schulstraße 50, 86556 Kühbach
END:VEVENT
BEGIN:VEVENT
DTSTAMP:20260423T230702
DTSTART;TZID=Europe/Berlin:20260302T192000
DTEND;TZID=Europe/Berlin:20260302T202000
UID:F52112-02-20260302T192000@VHSLANDKREIS AICHACH-FRIEDBERG E.V.
SUMMARY:Funktionelles Rückentraining -intensiv! (F52112-02) 
LOCATION:Kühbach; Grund-/Mittelschule; Gymnastikraum, Schulstraße 50, 86556 Kühbach
END:VEVENT
BEGIN:VEVENT
DTSTAMP:20260423T230702
DTSTART;TZID=Europe/Berlin:20260309T192000
DTEND;TZID=Europe/Berlin:20260309T202000
UID:F52112-02-20260309T192000@VHSLANDKREIS AICHACH-FRIEDBERG E.V.
SUMMARY:Funktionelles Rückentraining -intensiv! (F52112-02) 
LOCATION:Kühbach; Grund-/Mittelschule; Gymnastikraum, Schulstraße 50, 86556 Kühbach
END:VEVENT
BEGIN:VEVENT
DTSTAMP:20260423T230702
DTSTART;TZID=Europe/Berlin:20260316T192000
DTEND;TZID=Europe/Berlin:20260316T202000
UID:F52112-02-20260316T192000@VHSLANDKREIS AICHACH-FRIEDBERG E.V.
SUMMARY:Funktionelles Rückentraining -intensiv! (F52112-02) 
LOCATION:Kühbach; Grund-/Mittelschule; Gymnastikraum, Schulstraße 50, 86556 Kühbach
END:VEVENT
BEGIN:VEVENT
DTSTAMP:20260423T230702
DTSTART;TZID=Europe/Berlin:20260323T192000
DTEND;TZID=Europe/Berlin:20260323T202000
UID:F52112-02-20260323T192000@VHSLANDKREIS AICHACH-FRIEDBERG E.V.
SUMMARY:Funktionelles Rückentraining -intensiv! (F52112-02) 
LOCATION:Kühbach; Grund-/Mittelschule; Gymnastikraum, Schulstraße 50, 86556 Kühbach
END:VEVENT
BEGIN:VEVENT
DTSTAMP:20260423T230702
DTSTART;TZID=Europe/Berlin:20260413T192000
DTEND;TZID=Europe/Berlin:20260413T202000
UID:F52112-02-20260413T192000@VHSLANDKREIS AICHACH-FRIEDBERG E.V.
SUMMARY:Funktionelles Rückentraining -intensiv! (F52112-02) 
LOCATION:Kühbach; Grund-/Mittelschule; Gymnastikraum, Schulstraße 50, 86556 Kühbach
END:VEVENT
BEGIN:VEVENT
DTSTAMP:20260423T230702
DTSTART;TZID=Europe/Berlin:20260420T192000
DTEND;TZID=Europe/Berlin:20260420T202000
UID:F52112-02-20260420T192000@VHSLANDKREIS AICHACH-FRIEDBERG E.V.
SUMMARY:Funktionelles Rückentraining -intensiv! (F52112-02) 
LOCATION:Kühbach; Grund-/Mittelschule; Gymnastikraum, Schulstraße 50, 86556 Kühbach
END:VEVENT
BEGIN:VEVENT
DTSTAMP:20260423T230702
DTSTART;TZID=Europe/Berlin:20260427T192000
DTEND;TZID=Europe/Berlin:20260427T202000
UID:F52112-02-20260427T192000@VHSLANDKREIS AICHACH-FRIEDBERG E.V.
SUMMARY:Funktionelles Rückentraining -intensiv! (F52112-02) 
LOCATION:Kühbach; Grund-/Mittelschule; Gymnastikraum, Schulstraße 50, 86556 Kühbach
END:VEVENT
BEGIN:VEVENT
DTSTAMP:20260423T230702
DTSTART;TZID=Europe/Berlin:20260504T192000
DTEND;TZID=Europe/Berlin:20260504T202000
UID:F52112-02-20260504T192000@VHSLANDKREIS AICHACH-FRIEDBERG E.V.
SUMMARY:Funktionelles Rückentraining -intensiv! (F52112-02) 
LOCATION:Kühbach; Grund-/Mittelschule; Gymnastikraum, Schulstraße 50, 86556 Kühbach
END:VEVENT
BEGIN:VEVENT
DTSTAMP:20260423T230702
DTSTART;TZID=Europe/Berlin:20260511T192000
DTEND;TZID=Europe/Berlin:20260511T202000
UID:F52112-02-20260511T192000@VHSLANDKREIS AICHACH-FRIEDBERG E.V.
SUMMARY:Funktionelles Rückentraining -intensiv! (F52112-02) 
LOCATION:Kühbach; Grund-/Mittelschule; Gymnastikraum, Schulstraße 50, 86556 Kühbach
END:VEVENT
END:VCALENDAR