BEGIN:VCALENDAR
VERSION:2.0
PRODID:https://www.kufer.de/kuferweb / DE
METHOD:PUBLISH
CALSCALE:GREGORIAN
X-WR-TIMEZONE:Europe/Berlin
BEGIN:VTIMEZONE
TZID:Europe/Berlin
X-LIC-LOCATION:Europe/Berlin
BEGIN:DAYLIGHT
TZOFFSETFROM:+0100
TZOFFSETTO:+0200
TZNAME:CEST
DTSTART:19700329T020000
RRULE:FREQ=YEARLY;INTERVAL=1;BYDAY=-1SU;BYMONTH=3
END:DAYLIGHT
BEGIN:STANDARD
TZOFFSETFROM:+0200
TZOFFSETTO:+0100
TZNAME:CET
DTSTART:19701025T030000
RRULE:FREQ=YEARLY;INTERVAL=1;BYDAY=-1SU;BYMONTH=10
END:STANDARD
END:VTIMEZONE
BEGIN:VEVENT
DTSTAMP:20260424T174818
DTSTART;TZID=Europe/Berlin:20260608T210000
DTEND;TZID=Europe/Berlin:20260608T220000
UID:F52110-03-20260608T210000@VHSLANDKREIS AICHACH-FRIEDBERG E.V.
SUMMARY:Männer-Workout für Anf. und Fortg. -Fitness- und Krafttraining für JederMann, auch für Quereinsteiger geeignet!  (F52110-03) 
LOCATION:Inchenhofen; Grundschule; Turnhalle, Schulstraße 3, 86570 Inchenhofen
END:VEVENT
BEGIN:VEVENT
DTSTAMP:20260424T174818
DTSTART;TZID=Europe/Berlin:20260615T210000
DTEND;TZID=Europe/Berlin:20260615T220000
UID:F52110-03-20260615T210000@VHSLANDKREIS AICHACH-FRIEDBERG E.V.
SUMMARY:Männer-Workout für Anf. und Fortg. -Fitness- und Krafttraining für JederMann, auch für Quereinsteiger geeignet!  (F52110-03) 
LOCATION:Inchenhofen; Grundschule; Turnhalle, Schulstraße 3, 86570 Inchenhofen
END:VEVENT
BEGIN:VEVENT
DTSTAMP:20260424T174818
DTSTART;TZID=Europe/Berlin:20260622T210000
DTEND;TZID=Europe/Berlin:20260622T220000
UID:F52110-03-20260622T210000@VHSLANDKREIS AICHACH-FRIEDBERG E.V.
SUMMARY:Männer-Workout für Anf. und Fortg. -Fitness- und Krafttraining für JederMann, auch für Quereinsteiger geeignet!  (F52110-03) 
LOCATION:Inchenhofen; Grundschule; Turnhalle, Schulstraße 3, 86570 Inchenhofen
END:VEVENT
BEGIN:VEVENT
DTSTAMP:20260424T174818
DTSTART;TZID=Europe/Berlin:20260629T210000
DTEND;TZID=Europe/Berlin:20260629T220000
UID:F52110-03-20260629T210000@VHSLANDKREIS AICHACH-FRIEDBERG E.V.
SUMMARY:Männer-Workout für Anf. und Fortg. -Fitness- und Krafttraining für JederMann, auch für Quereinsteiger geeignet!  (F52110-03) 
LOCATION:Inchenhofen; Grundschule; Turnhalle, Schulstraße 3, 86570 Inchenhofen
END:VEVENT
BEGIN:VEVENT
DTSTAMP:20260424T174818
DTSTART;TZID=Europe/Berlin:20260706T210000
DTEND;TZID=Europe/Berlin:20260706T220000
UID:F52110-03-20260706T210000@VHSLANDKREIS AICHACH-FRIEDBERG E.V.
SUMMARY:Männer-Workout für Anf. und Fortg. -Fitness- und Krafttraining für JederMann, auch für Quereinsteiger geeignet!  (F52110-03) 
LOCATION:Inchenhofen; Grundschule; Turnhalle, Schulstraße 3, 86570 Inchenhofen
END:VEVENT
BEGIN:VEVENT
DTSTAMP:20260424T174818
DTSTART;TZID=Europe/Berlin:20260713T210000
DTEND;TZID=Europe/Berlin:20260713T220000
UID:F52110-03-20260713T210000@VHSLANDKREIS AICHACH-FRIEDBERG E.V.
SUMMARY:Männer-Workout für Anf. und Fortg. -Fitness- und Krafttraining für JederMann, auch für Quereinsteiger geeignet!  (F52110-03) 
LOCATION:Inchenhofen; Grundschule; Turnhalle, Schulstraße 3, 86570 Inchenhofen
END:VEVENT
END:VCALENDAR