BEGIN:VCALENDAR
VERSION:2.0
PRODID:https://www.kufer.de/kuferweb / DE
METHOD:PUBLISH
CALSCALE:GREGORIAN
X-WR-TIMEZONE:Europe/Berlin
BEGIN:VTIMEZONE
TZID:Europe/Berlin
X-LIC-LOCATION:Europe/Berlin
BEGIN:DAYLIGHT
TZOFFSETFROM:+0100
TZOFFSETTO:+0200
TZNAME:CEST
DTSTART:19700329T020000
RRULE:FREQ=YEARLY;INTERVAL=1;BYDAY=-1SU;BYMONTH=3
END:DAYLIGHT
BEGIN:STANDARD
TZOFFSETFROM:+0200
TZOFFSETTO:+0100
TZNAME:CET
DTSTART:19701025T030000
RRULE:FREQ=YEARLY;INTERVAL=1;BYDAY=-1SU;BYMONTH=10
END:STANDARD
END:VTIMEZONE
BEGIN:VEVENT
DTSTAMP:20260424T174737
DTSTART;TZID=Europe/Berlin:20260302T210000
DTEND;TZID=Europe/Berlin:20260302T220000
UID:F52110-02-20260302T210000@VHSLANDKREIS AICHACH-FRIEDBERG E.V.
SUMMARY:Männer-Workout für Anf. und Fortg. -Fitness- und Krafttraining für JederMann, auch für Quereinsteiger geeignet! (F52110-02) 
LOCATION:Inchenhofen; Grundschule; Turnhalle, Schulstraße 3, 86570 Inchenhofen
END:VEVENT
BEGIN:VEVENT
DTSTAMP:20260424T174737
DTSTART;TZID=Europe/Berlin:20260309T210000
DTEND;TZID=Europe/Berlin:20260309T220000
UID:F52110-02-20260309T210000@VHSLANDKREIS AICHACH-FRIEDBERG E.V.
SUMMARY:Männer-Workout für Anf. und Fortg. -Fitness- und Krafttraining für JederMann, auch für Quereinsteiger geeignet! (F52110-02) 
LOCATION:Inchenhofen; Grundschule; Turnhalle, Schulstraße 3, 86570 Inchenhofen
END:VEVENT
BEGIN:VEVENT
DTSTAMP:20260424T174737
DTSTART;TZID=Europe/Berlin:20260316T210000
DTEND;TZID=Europe/Berlin:20260316T220000
UID:F52110-02-20260316T210000@VHSLANDKREIS AICHACH-FRIEDBERG E.V.
SUMMARY:Männer-Workout für Anf. und Fortg. -Fitness- und Krafttraining für JederMann, auch für Quereinsteiger geeignet! (F52110-02) 
LOCATION:Inchenhofen; Grundschule; Turnhalle, Schulstraße 3, 86570 Inchenhofen
END:VEVENT
BEGIN:VEVENT
DTSTAMP:20260424T174737
DTSTART;TZID=Europe/Berlin:20260323T210000
DTEND;TZID=Europe/Berlin:20260323T220000
UID:F52110-02-20260323T210000@VHSLANDKREIS AICHACH-FRIEDBERG E.V.
SUMMARY:Männer-Workout für Anf. und Fortg. -Fitness- und Krafttraining für JederMann, auch für Quereinsteiger geeignet! (F52110-02) 
LOCATION:Inchenhofen; Grundschule; Turnhalle, Schulstraße 3, 86570 Inchenhofen
END:VEVENT
BEGIN:VEVENT
DTSTAMP:20260424T174737
DTSTART;TZID=Europe/Berlin:20260413T210000
DTEND;TZID=Europe/Berlin:20260413T220000
UID:F52110-02-20260413T210000@VHSLANDKREIS AICHACH-FRIEDBERG E.V.
SUMMARY:Männer-Workout für Anf. und Fortg. -Fitness- und Krafttraining für JederMann, auch für Quereinsteiger geeignet! (F52110-02) 
LOCATION:Inchenhofen; Grundschule; Turnhalle, Schulstraße 3, 86570 Inchenhofen
END:VEVENT
BEGIN:VEVENT
DTSTAMP:20260424T174737
DTSTART;TZID=Europe/Berlin:20260420T210000
DTEND;TZID=Europe/Berlin:20260420T220000
UID:F52110-02-20260420T210000@VHSLANDKREIS AICHACH-FRIEDBERG E.V.
SUMMARY:Männer-Workout für Anf. und Fortg. -Fitness- und Krafttraining für JederMann, auch für Quereinsteiger geeignet! (F52110-02) 
LOCATION:Inchenhofen; Grundschule; Turnhalle, Schulstraße 3, 86570 Inchenhofen
END:VEVENT
BEGIN:VEVENT
DTSTAMP:20260424T174737
DTSTART;TZID=Europe/Berlin:20260427T210000
DTEND;TZID=Europe/Berlin:20260427T220000
UID:F52110-02-20260427T210000@VHSLANDKREIS AICHACH-FRIEDBERG E.V.
SUMMARY:Männer-Workout für Anf. und Fortg. -Fitness- und Krafttraining für JederMann, auch für Quereinsteiger geeignet! (F52110-02) 
LOCATION:Inchenhofen; Grundschule; Turnhalle, Schulstraße 3, 86570 Inchenhofen
END:VEVENT
BEGIN:VEVENT
DTSTAMP:20260424T174737
DTSTART;TZID=Europe/Berlin:20260504T210000
DTEND;TZID=Europe/Berlin:20260504T220000
UID:F52110-02-20260504T210000@VHSLANDKREIS AICHACH-FRIEDBERG E.V.
SUMMARY:Männer-Workout für Anf. und Fortg. -Fitness- und Krafttraining für JederMann, auch für Quereinsteiger geeignet! (F52110-02) 
LOCATION:Inchenhofen; Grundschule; Turnhalle, Schulstraße 3, 86570 Inchenhofen
END:VEVENT
BEGIN:VEVENT
DTSTAMP:20260424T174737
DTSTART;TZID=Europe/Berlin:20260511T210000
DTEND;TZID=Europe/Berlin:20260511T220000
UID:F52110-02-20260511T210000@VHSLANDKREIS AICHACH-FRIEDBERG E.V.
SUMMARY:Männer-Workout für Anf. und Fortg. -Fitness- und Krafttraining für JederMann, auch für Quereinsteiger geeignet! (F52110-02) 
LOCATION:Inchenhofen; Grundschule; Turnhalle, Schulstraße 3, 86570 Inchenhofen
END:VEVENT
BEGIN:VEVENT
DTSTAMP:20260424T174737
DTSTART;TZID=Europe/Berlin:20260518T210000
DTEND;TZID=Europe/Berlin:20260518T220000
UID:F52110-02-20260518T210000@VHSLANDKREIS AICHACH-FRIEDBERG E.V.
SUMMARY:Männer-Workout für Anf. und Fortg. -Fitness- und Krafttraining für JederMann, auch für Quereinsteiger geeignet! (F52110-02) 
LOCATION:Inchenhofen; Grundschule; Turnhalle, Schulstraße 3, 86570 Inchenhofen
END:VEVENT
END:VCALENDAR