BEGIN:VCALENDAR
VERSION:2.0
PRODID:https://www.kufer.de/kuferweb / DE
METHOD:PUBLISH
CALSCALE:GREGORIAN
X-WR-TIMEZONE:Europe/Berlin
BEGIN:VTIMEZONE
TZID:Europe/Berlin
X-LIC-LOCATION:Europe/Berlin
BEGIN:DAYLIGHT
TZOFFSETFROM:+0100
TZOFFSETTO:+0200
TZNAME:CEST
DTSTART:19700329T020000
RRULE:FREQ=YEARLY;INTERVAL=1;BYDAY=-1SU;BYMONTH=3
END:DAYLIGHT
BEGIN:STANDARD
TZOFFSETFROM:+0200
TZOFFSETTO:+0100
TZNAME:CET
DTSTART:19701025T030000
RRULE:FREQ=YEARLY;INTERVAL=1;BYDAY=-1SU;BYMONTH=10
END:STANDARD
END:VTIMEZONE
BEGIN:VEVENT
DTSTAMP:20260424T173340
DTSTART;TZID=Europe/Berlin:20260622T200000
DTEND;TZID=Europe/Berlin:20260622T211500
UID:F51118-03-20260622T200000@VHSLANDKREIS AICHACH-FRIEDBERG E.V.
SUMMARY:Yoga für Anf. und Wiedereinst. (F51118-03) 
LOCATION:Rehling; Rathaus Rückgebäude; Mehrzweckraum, Hauptstraße 1, 86508 Rehling
END:VEVENT
BEGIN:VEVENT
DTSTAMP:20260424T173340
DTSTART;TZID=Europe/Berlin:20260629T200000
DTEND;TZID=Europe/Berlin:20260629T211500
UID:F51118-03-20260629T200000@VHSLANDKREIS AICHACH-FRIEDBERG E.V.
SUMMARY:Yoga für Anf. und Wiedereinst. (F51118-03) 
LOCATION:Rehling; Rathaus Rückgebäude; Mehrzweckraum, Hauptstraße 1, 86508 Rehling
END:VEVENT
BEGIN:VEVENT
DTSTAMP:20260424T173340
DTSTART;TZID=Europe/Berlin:20260706T200000
DTEND;TZID=Europe/Berlin:20260706T211500
UID:F51118-03-20260706T200000@VHSLANDKREIS AICHACH-FRIEDBERG E.V.
SUMMARY:Yoga für Anf. und Wiedereinst. (F51118-03) 
LOCATION:Rehling; Rathaus Rückgebäude; Mehrzweckraum, Hauptstraße 1, 86508 Rehling
END:VEVENT
BEGIN:VEVENT
DTSTAMP:20260424T173340
DTSTART;TZID=Europe/Berlin:20260713T200000
DTEND;TZID=Europe/Berlin:20260713T211500
UID:F51118-03-20260713T200000@VHSLANDKREIS AICHACH-FRIEDBERG E.V.
SUMMARY:Yoga für Anf. und Wiedereinst. (F51118-03) 
LOCATION:Rehling; Rathaus Rückgebäude; Mehrzweckraum, Hauptstraße 1, 86508 Rehling
END:VEVENT
BEGIN:VEVENT
DTSTAMP:20260424T173340
DTSTART;TZID=Europe/Berlin:20260720T200000
DTEND;TZID=Europe/Berlin:20260720T211500
UID:F51118-03-20260720T200000@VHSLANDKREIS AICHACH-FRIEDBERG E.V.
SUMMARY:Yoga für Anf. und Wiedereinst. (F51118-03) 
LOCATION:Rehling; Rathaus Rückgebäude; Mehrzweckraum, Hauptstraße 1, 86508 Rehling
END:VEVENT
END:VCALENDAR