BEGIN:VCALENDAR
VERSION:2.0
PRODID:https://www.kufer.de/kuferweb / DE
METHOD:PUBLISH
CALSCALE:GREGORIAN
X-WR-TIMEZONE:Europe/Berlin
BEGIN:VTIMEZONE
TZID:Europe/Berlin
X-LIC-LOCATION:Europe/Berlin
BEGIN:DAYLIGHT
TZOFFSETFROM:+0100
TZOFFSETTO:+0200
TZNAME:CEST
DTSTART:19700329T020000
RRULE:FREQ=YEARLY;INTERVAL=1;BYDAY=-1SU;BYMONTH=3
END:DAYLIGHT
BEGIN:STANDARD
TZOFFSETFROM:+0200
TZOFFSETTO:+0100
TZNAME:CET
DTSTART:19701025T030000
RRULE:FREQ=YEARLY;INTERVAL=1;BYDAY=-1SU;BYMONTH=10
END:STANDARD
END:VTIMEZONE
BEGIN:VEVENT
DTSTAMP:20260424T211911
DTSTART;TZID=Europe/Berlin:20260603T201500
DTEND;TZID=Europe/Berlin:20260603T211500
UID:F51106-08-20260603T201500@VHSLANDKREIS AICHACH-FRIEDBERG E.V.
SUMMARY:Yoga fördert unsere Beweglichkeit und Gesundheit (F51106-08) 
LOCATION:Dasing; Tagespflege; 1. Stock, Friedberger Straße 2, 86453 Dasing
END:VEVENT
BEGIN:VEVENT
DTSTAMP:20260424T211911
DTSTART;TZID=Europe/Berlin:20260610T201500
DTEND;TZID=Europe/Berlin:20260610T211500
UID:F51106-08-20260610T201500@VHSLANDKREIS AICHACH-FRIEDBERG E.V.
SUMMARY:Yoga fördert unsere Beweglichkeit und Gesundheit (F51106-08) 
LOCATION:Dasing; Tagespflege; 1. Stock, Friedberger Straße 2, 86453 Dasing
END:VEVENT
BEGIN:VEVENT
DTSTAMP:20260424T211911
DTSTART;TZID=Europe/Berlin:20260624T201500
DTEND;TZID=Europe/Berlin:20260624T211500
UID:F51106-08-20260624T201500@VHSLANDKREIS AICHACH-FRIEDBERG E.V.
SUMMARY:Yoga fördert unsere Beweglichkeit und Gesundheit (F51106-08) 
LOCATION:Dasing; Tagespflege; 1. Stock, Friedberger Straße 2, 86453 Dasing
END:VEVENT
BEGIN:VEVENT
DTSTAMP:20260424T211911
DTSTART;TZID=Europe/Berlin:20260701T201500
DTEND;TZID=Europe/Berlin:20260701T211500
UID:F51106-08-20260701T201500@VHSLANDKREIS AICHACH-FRIEDBERG E.V.
SUMMARY:Yoga fördert unsere Beweglichkeit und Gesundheit (F51106-08) 
LOCATION:Dasing; Tagespflege; 1. Stock, Friedberger Straße 2, 86453 Dasing
END:VEVENT
BEGIN:VEVENT
DTSTAMP:20260424T211911
DTSTART;TZID=Europe/Berlin:20260708T201500
DTEND;TZID=Europe/Berlin:20260708T211500
UID:F51106-08-20260708T201500@VHSLANDKREIS AICHACH-FRIEDBERG E.V.
SUMMARY:Yoga fördert unsere Beweglichkeit und Gesundheit (F51106-08) 
LOCATION:Dasing; Tagespflege; 1. Stock, Friedberger Straße 2, 86453 Dasing
END:VEVENT
END:VCALENDAR