BEGIN:VCALENDAR
VERSION:2.0
PRODID:https://www.kufer.de/kuferweb / DE
METHOD:PUBLISH
CALSCALE:GREGORIAN
X-WR-TIMEZONE:Europe/Berlin
BEGIN:VTIMEZONE
TZID:Europe/Berlin
X-LIC-LOCATION:Europe/Berlin
BEGIN:DAYLIGHT
TZOFFSETFROM:+0100
TZOFFSETTO:+0200
TZNAME:CEST
DTSTART:19700329T020000
RRULE:FREQ=YEARLY;INTERVAL=1;BYDAY=-1SU;BYMONTH=3
END:DAYLIGHT
BEGIN:STANDARD
TZOFFSETFROM:+0200
TZOFFSETTO:+0100
TZNAME:CET
DTSTART:19701025T030000
RRULE:FREQ=YEARLY;INTERVAL=1;BYDAY=-1SU;BYMONTH=10
END:STANDARD
END:VTIMEZONE
BEGIN:VEVENT
DTSTAMP:20260424T185930
DTSTART;TZID=Europe/Berlin:20260429T173500
DTEND;TZID=Europe/Berlin:20260429T185000
UID:F51101-02-20260429T173500@VHSLANDKREIS AICHACH-FRIEDBERG E.V.
SUMMARY:Yoga für Anf. und Wiedereinst. (F51101-02) 
LOCATION:Adelzhausen; Grundschule; Turnhalle, Schulstraße 9, 86559 Adelzhausen
END:VEVENT
BEGIN:VEVENT
DTSTAMP:20260424T185930
DTSTART;TZID=Europe/Berlin:20260506T173500
DTEND;TZID=Europe/Berlin:20260506T185000
UID:F51101-02-20260506T173500@VHSLANDKREIS AICHACH-FRIEDBERG E.V.
SUMMARY:Yoga für Anf. und Wiedereinst. (F51101-02) 
LOCATION:Adelzhausen; Grundschule; Turnhalle, Schulstraße 9, 86559 Adelzhausen
END:VEVENT
BEGIN:VEVENT
DTSTAMP:20260424T185930
DTSTART;TZID=Europe/Berlin:20260513T173500
DTEND;TZID=Europe/Berlin:20260513T185000
UID:F51101-02-20260513T173500@VHSLANDKREIS AICHACH-FRIEDBERG E.V.
SUMMARY:Yoga für Anf. und Wiedereinst. (F51101-02) 
LOCATION:Adelzhausen; Grundschule; Turnhalle, Schulstraße 9, 86559 Adelzhausen
END:VEVENT
BEGIN:VEVENT
DTSTAMP:20260424T185930
DTSTART;TZID=Europe/Berlin:20260520T173500
DTEND;TZID=Europe/Berlin:20260520T185000
UID:F51101-02-20260520T173500@VHSLANDKREIS AICHACH-FRIEDBERG E.V.
SUMMARY:Yoga für Anf. und Wiedereinst. (F51101-02) 
LOCATION:Adelzhausen; Grundschule; Turnhalle, Schulstraße 9, 86559 Adelzhausen
END:VEVENT
BEGIN:VEVENT
DTSTAMP:20260424T185930
DTSTART;TZID=Europe/Berlin:20260610T173500
DTEND;TZID=Europe/Berlin:20260610T185000
UID:F51101-02-20260610T173500@VHSLANDKREIS AICHACH-FRIEDBERG E.V.
SUMMARY:Yoga für Anf. und Wiedereinst. (F51101-02) 
LOCATION:Adelzhausen; Grundschule; Turnhalle, Schulstraße 9, 86559 Adelzhausen
END:VEVENT
BEGIN:VEVENT
DTSTAMP:20260424T185930
DTSTART;TZID=Europe/Berlin:20260617T173500
DTEND;TZID=Europe/Berlin:20260617T185000
UID:F51101-02-20260617T173500@VHSLANDKREIS AICHACH-FRIEDBERG E.V.
SUMMARY:Yoga für Anf. und Wiedereinst. (F51101-02) 
LOCATION:Adelzhausen; Grundschule; Turnhalle, Schulstraße 9, 86559 Adelzhausen
END:VEVENT
END:VCALENDAR